BEGIN:VCALENDAR
VERSION:2.0
PRODID:-//wp-events-plugin.com//6.4.9//EN
TZID:Europe/Paris
X-WR-TIMEZONE:Europe/Paris
BEGIN:VEVENT
UID:92@lalanguependue.fr
DTSTART;TZID=Europe/Paris:20260613T193000
DTEND;TZID=Europe/Paris:20260613T193000
DTSTAMP:20260421T142741Z
URL:https://lalanguependue.fr/agenda/le-jour-ou-ma-mere-a-rencontre-john-w
 ayne-2026-06-13-1930/
SUMMARY:Le jour où ma mère a rencontré John Wayne 2026-06-13 19:30
DESCRIPTION:
LOCATION:Théâtre de la Concorde\, 1\, avenue Gabriel\, Paris 8ème\, 7500
 8\, France
X-APPLE-STRUCTURED-LOCATION;VALUE=URI;X-ADDRESS=1\, avenue Gabriel\, Paris 
 8ème\, 75008\, France;X-APPLE-RADIUS=100;X-TITLE=Théâtre de la Concorde
 :geo:0,0
END:VEVENT
BEGIN:VTIMEZONE
TZID:Europe/Paris
X-LIC-LOCATION:Europe/Paris
BEGIN:DAYLIGHT
DTSTART:20260329T030000
TZOFFSETFROM:+0100
TZOFFSETTO:+0200
TZNAME:CEST
END:DAYLIGHT
END:VTIMEZONE
END:VCALENDAR