BEGIN:VCALENDAR
VERSION:2.0
PRODID:-//wp-events-plugin.com//6.4.9//EN
TZID:Europe/Paris
X-WR-TIMEZONE:Europe/Paris
BEGIN:VEVENT
UID:94@lalanguependue.fr
DTSTART;TZID=Europe/Paris:20260528T190000
DTEND;TZID=Europe/Paris:20260528T190000
DTSTAMP:20260421T144529Z
URL:https://lalanguependue.fr/agenda/on-na-pas-pris-le-temps-de-se-dire-au
 -revoir-2026-05-28-1900/
SUMMARY:On n’a pas pris le temps de se dire au revoir 2026-05-28 19:00
DESCRIPTION:
LOCATION:Théâtre de la Verrière\, Rue Alphonse Mercier\, Lille\, 59000\,
  France
X-APPLE-STRUCTURED-LOCATION;VALUE=URI;X-ADDRESS=Rue Alphonse Mercier\, Lill
 e\, 59000\, France;X-APPLE-RADIUS=100;X-TITLE=Théâtre de la Verrière:ge
 o:0,0
END:VEVENT
BEGIN:VTIMEZONE
TZID:Europe/Paris
X-LIC-LOCATION:Europe/Paris
BEGIN:DAYLIGHT
DTSTART:20260329T030000
TZOFFSETFROM:+0100
TZOFFSETTO:+0200
TZNAME:CEST
END:DAYLIGHT
END:VTIMEZONE
END:VCALENDAR